BEGIN:VCALENDAR
VERSION:2.0
PRODID:-//Custom Calendar//EN
BEGIN:VEVENT
UID:event-987511015@www.realtyline.us
DTSTART:20260807T100000
DTEND:20260807T120000
SUMMARY:HOA Changes You Need to Know
LOCATION:ABoR On-Air
DESCRIPTION:Substantial HOA reforms have been put into law during the last several | legislative session which have brought about some of the most sweeping | changes for Texas HOAs in history. Many of which direc
END:VEVENT
END:VCALENDAR
