BEGIN:VCALENDAR
VERSION:2.0
PRODID:-//Custom Calendar//EN
BEGIN:VEVENT
UID:event-987511018@www.realtyline.us
DTSTART:20260811T130000
DTEND:20260811T160000
SUMMARY:Contract Evolution: What's New, What's Now
LOCATION:ABoR On-Air
DESCRIPTION:With all the contract form changes, brokers and agents may still be unsure which form to use and when. Get refreshed on the correct way to use and interpret these updated forms and how to complete the
END:VEVENT
END:VCALENDAR
