BEGIN:VCALENDAR
VERSION:2.0
PRODID:-//Custom Calendar//EN
BEGIN:VEVENT
UID:event-987511021@www.realtyline.us
DTSTART:20260814T100000
DTEND:20260814T120000
SUMMARY:Matrix Analytics and Reporting
LOCATION:ABoR On-Air
DESCRIPTION:Become an expert in the Unlock MLS market areas through the analytics and reporting options provided by Matrix. This class will introduce you to the powerful Matrix tools that are designed to assist y
END:VEVENT
END:VCALENDAR
