BEGIN:VCALENDAR
VERSION:2.0
PRODID:-//Custom Calendar//EN
BEGIN:VEVENT
UID:event-987511022@www.realtyline.us
DTSTART:20260814T103000
DTEND:20260814T113000
SUMMARY:Mastering Your MLS - Compliance Tools, Rules, and Application
LOCATION:ABoR On-Air
DESCRIPTION:This course provides an overview of the compliance program and rules that every member needs to operate successfully within Unlock MLS. Explore the importance of the Unlock MLS Rules and Regulations a
END:VEVENT
END:VCALENDAR
