BEGIN:VCALENDAR
VERSION:2.0
PRODID:-//Custom Calendar//EN
BEGIN:VEVENT
UID:event-987511024@www.realtyline.us
DTSTART:20260818T130000
DTEND:20260818T150000
SUMMARY:Market Data & UnlockStats Lab
DESCRIPTION:Registration: https://www.unlockmls.com/class/market-data-unlockstats-lab
END:VEVENT
END:VCALENDAR
