BEGIN:VCALENDAR
VERSION:2.0
PRODID:-//Custom Calendar//EN
BEGIN:VEVENT
UID:event-987511025@www.realtyline.us
DTSTART:20260820T083000
DTEND:20260820T170000
SUMMARY:Pricing Strategies: Mastering the CMA
LOCATION:ABoR On-Air
DESCRIPTION:Select appropriate comparable and make accurate adjustments to them in developing home price options. Guide sellers and buyers through the details of CMAs and underlying pricing principles that inform
END:VEVENT
END:VCALENDAR
