BEGIN:VCALENDAR
VERSION:2.0
PRODID:-//Custom Calendar//EN
BEGIN:VEVENT
UID:event-987511028@www.realtyline.us
DTSTART:20260825T090000
DTEND:20260825T120000
SUMMARY:City Codes, Ordinances and Restrictions - Where to Start
LOCATION:ABoR On-Air
DESCRIPTION:City ordinances regulating development within the city can change based on the actions of a city council. The purpose of this course is to familiarize the licensee with city codes and development regu
END:VEVENT
END:VCALENDAR
