BEGIN:VCALENDAR
VERSION:2.0
PRODID:-//Custom Calendar//EN
BEGIN:VEVENT
UID:event-987511029@www.realtyline.us
DTSTART:20260827T090000
DTEND:20260827T120000
SUMMARY:Code of Ethics Powered by ABoR
LOCATION:Address
DESCRIPTION:The Code of Ethics is an NAR-required course that breaks down the Code of Ethics REALTORS® are to abide by while practicing real estate. In this 3-hour course, we cover all 17 articles that include d
END:VEVENT
END:VCALENDAR
