BEGIN:VCALENDAR
VERSION:2.0
PRODID:-//Custom Calendar//EN
BEGIN:VEVENT
UID:event-987511031@www.realtyline.us
DTSTART:20260901T090000
DTEND:20260901T120000
SUMMARY:Become a Real Estate Marketing Rockstar Using ChatGPT
LOCATION:ABoR On-Air
DESCRIPTION:Welcome to the cutting-edge course on "Become a Real Estate Marketing Rockstar | Using ChatGPT." In this course, you will learn how to leverage the power of the latest | artificial intelligence techno
END:VEVENT
END:VCALENDAR
