BEGIN:VCALENDAR
VERSION:2.0
PRODID:-//Custom Calendar//EN
BEGIN:VEVENT
UID:event-987511032@www.realtyline.us
DTSTART:20260902T083000
DTEND:20260902T170000
SUMMARY:SRES: Senior Real Estate Specialist | 2-Day Class
DESCRIPTION:Registration: https://www.unlockmls.com/class/sres-senior-real-estate-specialist-2-day-class
END:VEVENT
END:VCALENDAR
