BEGIN:VCALENDAR
VERSION:2.0
PRODID:-//Custom Calendar//EN
BEGIN:VEVENT
UID:event-987511033@www.realtyline.us
DTSTART:20260902T093000
DTEND:20260902T150000
SUMMARY:Unlock MLS/ABoR Boards of Directors Meeting
DESCRIPTION:Registration: https://www.unlockmls.com/class/unlock-mls-abor-boards-of-directors-meeting
END:VEVENT
END:VCALENDAR
