BEGIN:VCALENDAR
VERSION:2.0
PRODID:-//Custom Calendar//EN
BEGIN:VEVENT
UID:event-987511035@www.realtyline.us
DTSTART:20260908T090000
DTEND:20260908T120000
SUMMARY:Selling Farm & Ranch in TX
DESCRIPTION:Registration: https://www.unlockmls.com/class/selling-farm-ranch-in-tx-contract-listing-agreement
END:VEVENT
END:VCALENDAR
