BEGIN:VCALENDAR
VERSION:2.0
PRODID:-//Custom Calendar//EN
BEGIN:VEVENT
UID:event-987511037@www.realtyline.us
DTSTART:20260910T083000
DTEND:20260910T170000
SUMMARY:AHWD: At Home With Diversity
DESCRIPTION:Registration: https://www.unlockmls.com/class/ahwd-at-home-with-diversity
END:VEVENT
END:VCALENDAR
