BEGIN:VCALENDAR
VERSION:2.0
PRODID:-//Custom Calendar//EN
BEGIN:VEVENT
UID:event-987511038@www.realtyline.us
DTSTART:20260910T100000
DTEND:20260910T120000
SUMMARY:CMA Manager - Matrix CMA
LOCATION:ABoR On-Air
DESCRIPTION:Accurately pricing properties is a crucial skill for every real estate agent. In this class, you'll discover expert tips and techniques for leveraging Matrix tools to create comprehensive Comparative 
END:VEVENT
END:VCALENDAR
