BEGIN:VCALENDAR
VERSION:2.0
PRODID:-//Custom Calendar//EN
BEGIN:VEVENT
UID:event-987511040@www.realtyline.us
DTSTART:20260915T083000
DTEND:20260915T170000
SUMMARY:GRI: Business Skills | 4-Day Class
LOCATION:ABoR On-Air
DESCRIPTION:Topics include seller services, buyer services, technology, and environment and green building. | The Texas-specific GRI® designation is obtained by attending an intensive series of classes that tota
END:VEVENT
END:VCALENDAR
