BEGIN:VCALENDAR
VERSION:2.0
PRODID:-//Custom Calendar//EN
BEGIN:VEVENT
UID:event-987511041@www.realtyline.us
DTSTART:20260915T090000
DTEND:20260915T120000
SUMMARY:Price with Confidence
LOCATION:Address
DESCRIPTION:This course will give Realtors® the tools they need to serve their clients with objective, accurate and thorough CMA’s. The class focuses on important concepts and tools including market analysis, 
END:VEVENT
END:VCALENDAR
