BEGIN:VCALENDAR
VERSION:2.0
PRODID:-//Custom Calendar//EN
BEGIN:VEVENT
UID:event-987511043@www.realtyline.us
DTSTART:20260922T100000
DTEND:20260922T113000
SUMMARY:MLS Workshop: Smart Farming
DESCRIPTION:Registration: https://www.unlockmls.com/class/mls-workshop-smart-farming-data-driven-strategies-with-rpr-remine
END:VEVENT
END:VCALENDAR
