BEGIN:VCALENDAR
VERSION:2.0
PRODID:-//Custom Calendar//EN
BEGIN:VEVENT
UID:event-987511046@www.realtyline.us
DTSTART:20260924T100000
DTEND:20260924T120000
SUMMARY:Listing Manager - Adding & Editing Listings
DESCRIPTION:Registration: https://www.unlockmls.com/class/listing-manager-adding-editing-listings
END:VEVENT
END:VCALENDAR
