BEGIN:VCALENDAR
VERSION:2.0
PRODID:-//Custom Calendar//EN
BEGIN:VEVENT
UID:event-987511048@www.realtyline.us
DTSTART:20260929T090000
DTEND:20260929T120000
SUMMARY:CMA/Adjustments & Theory
DESCRIPTION:Registration: https://www.unlockmls.com/class/cma-adjustments-theory
END:VEVENT
END:VCALENDAR
