BEGIN:VCALENDAR
VERSION:2.0
PRODID:-//Custom Calendar//EN
BEGIN:VEVENT
UID:event-987511049@www.realtyline.us
DTSTART:20261001T090000
DTEND:20261001T120000
SUMMARY:Artificial Intelligence in Real Estate Workshop
LOCATION:Address
DESCRIPTION:Designed for real estate agents who want to learn the basics of artificial intelligence (AI) as well as practical applications of AI in the real estate industry, this introductory course on AI in real
END:VEVENT
END:VCALENDAR
