BEGIN:VCALENDAR
VERSION:2.0
PRODID:-//Custom Calendar//EN
BEGIN:VEVENT
UID:event-987511051@www.realtyline.us
DTSTART:20261002T090000
DTEND:20261002T120000
SUMMARY:Understanding Contingency Situations
LOCATION:ABoR On-Air
DESCRIPTION:A contingency is a provision in a real estate contract that specifies the contract would cease to exist upon the occurrence of a certain event. “I’ll buy yours if mine sells first.” Contingencie
END:VEVENT
END:VCALENDAR
