BEGIN:VCALENDAR
VERSION:2.0
PRODID:-//Custom Calendar//EN
BEGIN:VEVENT
UID:event-987511054@www.realtyline.us
DTSTART:20261007T083000
DTEND:20261007T170000
SUMMARY:ITI: Instructor Training Institute | 2-Day Class
DESCRIPTION:Registration: https://www.unlockmls.com/class/iti-instructor-training-institute-2-day-class
END:VEVENT
END:VCALENDAR
