BEGIN:VCALENDAR
VERSION:2.0
PRODID:-//Custom Calendar//EN
BEGIN:VEVENT
UID:event-987511057@www.realtyline.us
DTSTART:20261008T090000
DTEND:20261008T120000
SUMMARY:Texas VA Home Loans
LOCATION:ABoR On-Air
DESCRIPTION:This class is designed to provide real estate license holders with in-depth knowledge and understanding of the VA Home Loan Guaranty Program as well as the Texas Veterans Housing Assistance Program, t
END:VEVENT
END:VCALENDAR
