BEGIN:VCALENDAR
VERSION:2.0
PRODID:-//Custom Calendar//EN
BEGIN:VEVENT
UID:event-987511062@www.realtyline.us
DTSTART:20261015T090000
DTEND:20261015T130000
SUMMARY:TREC Legal Update I
LOCATION:ABoR On-Air
DESCRIPTION:FREE for ABoR members. This class is required for license renewals as four of the eight (8) legal hours. This class covers recent cases as well as topics including changes in the Real Estate License A
END:VEVENT
END:VCALENDAR
