BEGIN:VCALENDAR
VERSION:2.0
PRODID:-//Custom Calendar//EN
BEGIN:VEVENT
UID:event-987511063@www.realtyline.us
DTSTART:20261015T100000
DTEND:20261015T113000
SUMMARY:MLS Workshop: Data Made Simple
DESCRIPTION:Registration: https://www.unlockmls.com/class/mls-workshop-data-made-simple-creating-reports-clients-actually-understand
END:VEVENT
END:VCALENDAR
