BEGIN:VCALENDAR
VERSION:2.0
PRODID:-//Custom Calendar//EN
BEGIN:VEVENT
UID:event-987511066@www.realtyline.us
DTSTART:20261020T083000
DTEND:20261020T170000
SUMMARY:GRI: Contracts to Closing | 4-Day Class
DESCRIPTION:Registration: https://www.unlockmls.com/class/gri-contracts-to-closing-or-4-day-class-3
END:VEVENT
END:VCALENDAR
