BEGIN:VCALENDAR
VERSION:2.0
PRODID:-//Custom Calendar//EN
BEGIN:VEVENT
UID:event-987511070@www.realtyline.us
DTSTART:20261022T100000
DTEND:20261022T120000
SUMMARY:Remine 101
LOCATION:ABoR On-Air
DESCRIPTION:On the surface, Remine Pro may appear to be just one more MLS product to keep track of. However, Remine Pro is chock-full of cutting-edge tools, effective mobile connectivity, and seamless design. A t
END:VEVENT
END:VCALENDAR
