BEGIN:VCALENDAR
VERSION:2.0
PRODID:-//Custom Calendar//EN
BEGIN:VEVENT
UID:event-987511073@www.realtyline.us
DTSTART:20261104T090000
DTEND:20261104T120000
SUMMARY:Understanding a Condominium Contract
LOCATION:ABoR On-Air
DESCRIPTION:This class analyzes the liability aspects of the TREC forms, discussing the structure of the contract, the nature of written contracts, default, alternative dispute resolutions, HOA provisions and ear
END:VEVENT
END:VCALENDAR
