BEGIN:VCALENDAR
VERSION:2.0
PRODID:-//Custom Calendar//EN
BEGIN:VEVENT
UID:event-987511075@www.realtyline.us
DTSTART:20261109T090000
DTEND:20261109T130000
SUMMARY:TREC Legal Update II
LOCATION:ABoR On-Air
DESCRIPTION:FREE for ABoR members. This class is required for license renewals as four of the eight (8) legal hours. This class covers canons of professional ethics, discriminatory practices, agency relationships
END:VEVENT
END:VCALENDAR
