BEGIN:VCALENDAR
VERSION:2.0
PRODID:-//Custom Calendar//EN
BEGIN:VEVENT
UID:event-987511076@www.realtyline.us
DTSTART:20261201T090000
DTEND:20261201T160000
SUMMARY:Broker Responsibility
LOCATION:ABoR On-Air
DESCRIPTION:FREE to ABoR members. Brokers who sponsor salespersons and any licensees (either brokers or salespersons) who are authorized by brokers to supervise other licensees are required to attend a six-hour m
END:VEVENT
END:VCALENDAR
