BEGIN:VCALENDAR
VERSION:2.0
PRODID:-//Custom Calendar//EN
BEGIN:VEVENT
UID:event-987511077@www.realtyline.us
DTSTART:20261202T090000
DTEND:20261202T120000
SUMMARY:A Review of the One to Four Family Contract
LOCATION:ABoR On-Air
DESCRIPTION:The Texas Real Estate Commission has determined that additional and continuing education regarding the promulgated forms and documents is required and advisable for the Real Estate Community. This cou
END:VEVENT
END:VCALENDAR
