BEGIN:VCALENDAR
VERSION:2.0
PRODID:-//Custom Calendar//EN
BEGIN:VEVENT
UID:event-987511083@www.realtyline.us
DTSTART:20261208T090000
DTEND:20261208T160000
SUMMARY:TRPM: The Business and Its Assets
LOCATION:ABoR On-Air
DESCRIPTION:The purpose of this course is to establish the basics and best practices of setting up a property management company, as well as identify actions property managers should consider when attempting to p
END:VEVENT
END:VCALENDAR
