BEGIN:VCALENDAR
VERSION:2.0
PRODID:-//Custom Calendar//EN
BEGIN:VEVENT
UID:event-987511084@www.realtyline.us
DTSTART:20261209T090000
DTEND:20261209T130000
SUMMARY:TRPM: Residential Property Management Agreement
LOCATION:ABoR On-Air
DESCRIPTION:The purpose of this course is to show the use and relevance of various Texas REALTOR® lease forms along with other leasing and property management issues. Students will be trained to competently prep
END:VEVENT
END:VCALENDAR
