BEGIN:VCALENDAR
VERSION:2.0
PRODID:-//Custom Calendar//EN
BEGIN:VEVENT
UID:event-987511085@www.realtyline.us
DTSTART:20261209T140000
DTEND:20261209T160000
SUMMARY:TRPM: Residential Evictions
LOCATION:ABoR On-Air
DESCRIPTION:In this course real estate agents will learn the nomenclature of residential evictions and be trained in the preparation of eviction forms to ensure a successful eviction. Eviction forms will be exami
END:VEVENT
END:VCALENDAR
