BEGIN:VCALENDAR
VERSION:2.0
PRODID:-//Custom Calendar//EN
BEGIN:VEVENT
UID:event-987511086@www.realtyline.us
DTSTART:20261210T090000
DTEND:20261210T160000
SUMMARY:TRPM: Maintenance and Relationships
LOCATION:ABoR On-Air
DESCRIPTION:This course will discuss how to set up, and best practices of, property maintenance and habitability of residential rentals. It will also examine situations found in property management relationships 
END:VEVENT
END:VCALENDAR
