BEGIN:VCALENDAR
VERSION:2.0
PRODID:-//Custom Calendar//EN
BEGIN:VEVENT
UID:event-987511088@www.realtyline.us
DTSTART:20261214T090000
DTEND:20261214T120000
SUMMARY:New Member Orientation
LOCATION:ABoR On-Air
DESCRIPTION:This course is designed for new members to learn more about services and value added to their membership with the Austin Board of REALTORS®(ABoR), Texas REALTORS® (TR) and the National Association o
END:VEVENT
END:VCALENDAR
