BEGIN:VCALENDAR
VERSION:2.0
PRODID:-//Custom Calendar//EN
BEGIN:VEVENT
UID:event-987511089@www.realtyline.us
DTSTART:20261215T100000
DTEND:20261215T120000
SUMMARY:Listing Manager - Adding & Editing Listings
DESCRIPTION:Registration: https://www.unlockmls.com/class/listing-manager-adding-editing-listings
END:VEVENT
END:VCALENDAR
