BEGIN:VCALENDAR
VERSION:2.0
PRODID:-//Custom Calendar//EN
BEGIN:VEVENT
UID:event-987511117@www.realtyline.us
DTSTART:20260501T180000
DTEND:20260601T230000
SUMMARY:ABOR: 2025 Industry Awards: Midnight Cowboy Gala
LOCATION:3001 Kalahari Blvd, Round Rock, TX 78665, USA
DESCRIPTION:Beneath a velvet Texas sky, the best in our industry don't just stand out — they set the standard.



The 2025 ABoR Industry Awards Midnight Cowboy Gala is an evening designed for the bold, the bril
END:VEVENT
END:VCALENDAR
