BEGIN:VCALENDAR
VERSION:2.0
PRODID:-//Custom Calendar//EN
BEGIN:VEVENT
UID:event-987511174@www.realtyline.us
DTSTART:20260413T090000
DTEND:20260413T120000
SUMMARY:ABoR: New Member Orientation
LOCATION:4800 Spicewood Springs Rd, Austin, TX 78759, USA
DESCRIPTION:This course is designed for new members to learn more about services and value added to their membership with the Austin Board of REALTORS®(ABoR), Texas REALTORS® (TR) and the National Association o
END:VEVENT
END:VCALENDAR
