BEGIN:VCALENDAR
VERSION:2.0
PRODID:-//Custom Calendar//EN
BEGIN:VEVENT
UID:event-987511330@www.realtyline.us
DTSTART:20260407T170000
DTEND:20260407T170000
SUMMARY:HBA: Crafting a Winning Digital Marketing Strategy
LOCATION:HBA Classroom
END:VEVENT
END:VCALENDAR
