BEGIN:VCALENDAR
VERSION:2.0
PRODID:-//Custom Calendar//EN
BEGIN:VEVENT
UID:event-987511332@www.realtyline.us
DTSTART:20260408T170000
DTEND:20260408T170000
SUMMARY:HBA: Class: Maximum Lead Generation - Website Best Practices
LOCATION:HBA Classroom
END:VEVENT
END:VCALENDAR
