BEGIN:VCALENDAR
VERSION:2.0
PRODID:-//Custom Calendar//EN
BEGIN:VEVENT
UID:event-987511333@www.realtyline.us
DTSTART:20260408T170000
DTEND:20260408T170000
SUMMARY:HBA: HVAC & Electrical Essential Skills
LOCATION:Home Builders Association (HBA) of Greater Austin
END:VEVENT
END:VCALENDAR
