BEGIN:VCALENDAR
VERSION:2.0
PRODID:-//Custom Calendar//EN
BEGIN:VEVENT
UID:event-987511334@www.realtyline.us
DTSTART:20260414T120000
DTEND:20260414T130000
SUMMARY:HBA: Government Relations Committee (GRC)
LOCATION:7800 Shoal Creek Boulevard, Austin, TX, 78757
DESCRIPTION:Be in the Know &amp; Help our Builders Keep Building



Meetings:&nbsp;Open&nbsp;to all -- Custom Builders, Remodelers, Volume Builders, Developers, Engineers, and Supplier MembersDate:&nbsp;GRC mee
END:VEVENT
END:VCALENDAR
