BEGIN:VCALENDAR
VERSION:2.0
PRODID:-//Custom Calendar//EN
BEGIN:VEVENT
UID:event-987511335@www.realtyline.us
DTSTART:20260415T170000
DTEND:20260415T170000
SUMMARY:Class: Plumbing & Building Codes Essential Skills
LOCATION:Home Builders Association (HBA) of Greater Austin
END:VEVENT
END:VCALENDAR
