BEGIN:VCALENDAR
VERSION:2.0
PRODID:-//Custom Calendar//EN
BEGIN:VEVENT
UID:event-987511336@www.realtyline.us
DTSTART:20260416T170000
DTEND:20260416T170000
SUMMARY:HBA: CBRC: Marketing Your Business - Improving Your Brand & Value to Customers
LOCATION:Tri-Supply
END:VEVENT
END:VCALENDAR
