BEGIN:VCALENDAR
VERSION:2.0
PRODID:-//Custom Calendar//EN
BEGIN:VEVENT
UID:event-987511337@www.realtyline.us
DTSTART:20260422T170000
DTEND:20260422T170000
SUMMARY:HBA: Building Envelope | Stucco &amp; Adhered Masonry Veneer Essential Skills
LOCATION:Home Builders Association (HBA) of Greater Austin
END:VEVENT
END:VCALENDAR
