BEGIN:VCALENDAR
VERSION:2.0
PRODID:-//Custom Calendar//EN
BEGIN:VEVENT
UID:event-987511338@www.realtyline.us
DTSTART:20260423T170000
DTEND:20260423T170000
SUMMARY:HBA: Communications - Read the Room, Not Just the Plans
LOCATION:HBA Classroom
END:VEVENT
END:VCALENDAR
