BEGIN:VCALENDAR
VERSION:2.0
PRODID:-//Custom Calendar//EN
BEGIN:VEVENT
UID:event-987511339@www.realtyline.us
DTSTART:20260429T170000
DTEND:20260429T170000
SUMMARY:HBA: Project Management Essential Skills
LOCATION:Home Builders Association (HBA) of Greater Austin
END:VEVENT
END:VCALENDAR
