BEGIN:VCALENDAR
VERSION:2.0
PRODID:-//Custom Calendar//EN
BEGIN:VEVENT
UID:event-987511340@www.realtyline.us
DTSTART:20260506T170000
DTEND:20260506T170000
SUMMARY:Class: Building Science Essential Skills
LOCATION:Home Builders Association (HBA) of Greater Austin
END:VEVENT
END:VCALENDAR
