BEGIN:VCALENDAR
VERSION:2.0
PRODID:-//Custom Calendar//EN
BEGIN:VEVENT
UID:event-987511342@www.realtyline.us
DTSTART:20260507T170000
DTEND:20260507T170000
SUMMARY:Builder Bash & Boil
LOCATION:Haute Spot
END:VEVENT
END:VCALENDAR
